BEGIN:VCALENDAR
VERSION:2.0
PRODID:-//EuroBJJ//Event Calendar//EN
CALSCALE:GREGORIAN
METHOD:PUBLISH
X-WR-CALNAME:EuroBJJ Events
BEGIN:VEVENT
UID:event-1433@eurobjj.com
DTSTAMP:20260419T145944Z
DTSTART;VALUE=DATE:20260412
DTEND;VALUE=DATE:20260413
SUMMARY:RAMM FIGHTING SERIES 3 - OCTAGON TAKEDOWN TOURNAMENT
LOCATION:Netherlands
DESCRIPTION:RAMM Fighting Series 3 is a takedown-focused tournament for competitors 16 and up\, held in an octagon cage. The event bridges Judo\, Sambo\, BJJ\, MMA\, and Wrestling under a dedicated takedown ruleset.\n\n**Format & Rules:**\n- Double elimination\, round robins\, or round robins with cross finals (structure determined by entry numbers)\n- First to 3 takedowns wins immediately\n- Golden Score overtime: next takedown decides if tied\n- 1 point awarded for takedown + 3 seconds control\n- 1 kg weigh-in allowance permitted\n- Same-day weigh-in\n\nAn open class prize pool is collected from entry fees of open class competitors.\n\n*For full details and registration\, visit the official event page.*\\n\\nMore info: https://smoothcomp.com/en/event/30113\\n\\nView on EuroBJJ: https://eurobjj.com/events/1433
URL:https://smoothcomp.com/en/event/30113
END:VEVENT
END:VCALENDAR
