BEGIN:VCALENDAR
VERSION:2.0
PRODID:-//EuroBJJ//Event Calendar//EN
CALSCALE:GREGORIAN
METHOD:PUBLISH
X-WR-CALNAME:EuroBJJ Events
BEGIN:VEVENT
UID:event-1753@eurobjj.com
DTSTAMP:20260420T040025Z
DTSTART;VALUE=DATE:20260620
DTEND;VALUE=DATE:20260621
SUMMARY:RELAX 2
LOCATION:Czechia
DESCRIPTION:RELAX 2 guarantees every competitor a minimum of three matches\, with the possibility of a fourth if they advance to the finals. The tournament features award ceremonies held throughout the day.\n\nPrize purse includes 2\,000 CZK for category winners\, material prizes for top three finishers\, and a 2\,000 CZK bonus for Best Submission of the Event.\n\nWeigh-in runs 9:00–10:00\, with competition starting at 10:00.\n\n*For full details and registration\, visit the official event page.*\\n\\nMore info: https://smoothcomp.com/en/event/31576\\n\\nView on EuroBJJ: https://eurobjj.com/events/1753
URL:https://smoothcomp.com/en/event/31576
END:VEVENT
END:VCALENDAR
