BEGIN:VCALENDAR
VERSION:2.0
PRODID:-//EuroBJJ//Event Calendar//EN
CALSCALE:GREGORIAN
METHOD:PUBLISH
X-WR-CALNAME:EuroBJJ Events
BEGIN:VEVENT
UID:event-1651@eurobjj.com
DTSTAMP:20260423T121232Z
DTSTART;VALUE=DATE:20260510
DTEND;VALUE=DATE:20260511
SUMMARY:ROOKIE FC 9 NAPOLI
LOCATION:Italy
DESCRIPTION:ROOKIE FC 9 NAPOLI PALASIRIO DOMENICA 10 MAGGIOGARA MMA-NOGI NAZIONALE PATROCINATA CSENREGOLAMENTO DILETTANTI MINORENNI MMA (M00-M01-M02-M03):MINORE CLASSE DI ETA':M-00 data prevista 10-11M-01 data prevista 12-13M-02 data di arrivo 14-15MINORENNI CLASSI DI PESO:-40\, -44\, -48\, -52\, -57\, -62\, -67\, -72\, +72 KG.IN PIEDI:UNICI COLPI PERMESSI: PUGNI E CALCI AL CORPO (MA NO LINEAR KICKS AL GINOCCHIO).VIETATI TUTTI GLI ALTRI COLPI: PUGNI E CALCI ALLA TESTA\, GINOCCHIATE\, GOMITATE\, COLPI CON AVAMBRACCI\, TESTATE\, FOOT STOMPS.A TERRA:NESSUN COLPO SOLO GRAPPLINGTECNICHE VIETATE:NON SUPLEX.NO TAKEDOWN PORTANDO L'AVVERSARIO SOPRA LE PROPRIE SPALLE.NO GHIGLIOTTINE CON SOLO TESTA.NIENTE GHIGLIOTTINE TERMINATE IN PIEDI.UNICHE LEVE AGLI ARTI INFERIORI PERMESSE: BLOCCO D'ACHILLE.NESSUNA LEVA AI POLSI.NESSUNA COMPRESSIONE AI MUSCOLARI.NO LEVE E COMPRESSIONI ALLA CERVICALE O ALLA COLONNA VERTEBRALE (SI SE INSIEME AD UNO STRANGOLAMENTO).NON OMOPLATA.TEMPO: 1 ROUND DA 4 MINUTIPROTEZIONI: NO CASCHETTO-GUANTINI DA 7 ONCE- PARATIBIE SPESSORATI-CONCHIGLIA-PARADENTICERTIFICATO MEDICO: B1REGOLAMENTO DILETTANTI ADULTI MMA (A01):CLASSI DI ETA' ADULTI E M-03 ETA' 16-17 ANNI:Dati previsti 18-36CLASSI DI PESO ADULTI E M-03:-55\, -61\, -66\, -71\, -77\, -84\, -92\, -100\, -120A01 BEGINNER (TORNEO APERTO A COLORO CHE HANNO UN MASSIMO DI 2 ANNI DI PRATICA SPORTIVA DELLE MMA)IN PIEDI:UNICI COLPI PERMESSI: PUGNI ALLA TESTA E AL CORPO\, GINOCCHIATE AL CORPO\, CALCI ALLA TESTA E AL CORPO (MA NO LINEAR KICKS AL GINOCCHIO).VIETATI TUTTI GLI ALTRI COLPI: GINOCCHIATE ALLA TESTA\, GOMITATE\, COLPI CON AVAMBRACCI\, TESTATE.A TERRA:UNICI COLPI PERMESSI: PUGNI AL CORPO\, GINOCCHIATE AL CORPO\, CALCI AL CORPO(MA NON CALCIO STOMP).VIETATI TUTTI GLI ALTRI COLPI: CALCI ALLA TESTA\, GINOCCHIATE ALLA TESTA\, GOMITATE\, COLPI CON AVAMBRACCI\, TESTATE.TECNICHE VIETATE:NO HEEL HOOKNON SCHIACCIARE.NON SUPLEX.NO TAKEDOWN PORTANDO L'AVVERSARIO SOPRA LE PROPRIE SPALLE.UNICHE LEVE AGLI ARTI INFERIORI PERMESSE: BLOCCO D'ACHILLE.NO LEVE E COMPRESSIONI ALLA CERVICALE O ALLA COLONNA VERTEBRALE (SI SE INSIEME AD UNO STRANGOLAMENTO)TEMPO: 1 GIRO DA 4 MINUTIPROTEZIONI: CASCHETTO SENZA BARRA ANTERIORE-GUANTINI DA 7 ONCE- PARATIBIE SPESSORATI-CONCHIGLIA-PARADENTICERTIFICATO MEDICO: B5 PER IL CONTATTO PIENO.A02 EXPERT (TORNEO APERTO A COLORO CHE HANNO PIU' DI 2 ANNI DI PRATICA SPORTIVA DELLE MMA)IN PIEDI:UNICI COLPI PERMESSI: PUGNI ALLA TESTA E AL CORPO\, GINOCCHIATE AL CORPO\, CALCI ALLA TESTA E AL CORPO. (MA NO CALCI LINEARI AL GINOCCHIO). VIETATI TUTTI GLI ALTRI COLPI: GINOCCHIATE ALLA TESTA\, GOMITATE\, COLPI CON AVAMBRACCI\, TESTATE.A TERRA:UNICI COLPI PERMESSI: PUGNI ALLA TESTA E AL CORPO\, GINOCCHIATE AL CORPO\, CALCI AL CORPO (MA NO STOMP KICK)\, UPKICK ALLA TESTA SOLO AD AVVERSARIO CHE STA IN PIEDI.VIETATI TUTTI GLI ALTRI COLPI: GINOCCHIATE ALLA TESTA\, CALCI ALLA TESTA SU AVVERSARIO A TERRA\, GOMITATE\, COLPI CON AVAMBRACCI\, TESTATE.TECNICHE VIETATE:NON SCHIACCIARE.NON SUPLEX.NO HELL HOOK.NO LEVE E COMPRESSIONI ALLA CERVICALE O ALLA COLONNA VERTEBRALE (SI SE INSIEME AD UNO STRANGOLAMENTO)UNICHE LEVE AGLI ARTI INFERIORI PERMESSE: BLOCCO DI ACHILLE – TOE HOLD DRITTA – KNEE BAR DRITTATEMPO: 3 ROUND DA 2 MINUTIPROTEZIONI: CASCHETTO SENZA BARRA ANTERIORE-GUANTINI DA 7 ONCE- PARATIBIE SPESSORATI-CONCHIGLIA-PARADENTICERTIFICATO MEDICO: B5 PER IL CONTATTO PIENO.ISCRIZIONE GARA:- ON LINE SU SMOOTHCOMP- QUOTA ISCRIZIONE GARA (DA PAGARE SUL POSTO AL PESO)- PESO APERTO DALLE 9:30 ALLE 10:30 PRESSO IL PALABISTERZIO1 DISCIPLINATESSERATI CSEN 25 EURONON TESSERATI 30 EUROCRITERI DI VALUTAZIONELO STRIKER/GRAPPLING EFFICACE DEVE ESSERE CONSIDERATO COME CRITERIO PRIORITARIO PER IL GIUDIZIO. L'AGGRESSIVITÀ EFFICACE NON DEVE ESSERE CONSIDERATA A MENO CHE IL GIUDICE NON VEDA NESSUN VANTAGGIO NELLO STRIKING/GRAPPLING EFFICACE. CAGE CONTROL (CONTROLLO DELL'AREA DI COMBATTIMENTO) DEVE ESSERE CONSIDERATO SOLO NEI CASI RARI NEI QUALI TUTTI GLI ALTRI CRITERI SONO IN PARITÀ TRA I DUE ATLETI.1) EFFICACIA COLPIMENTO/PRESACOLPI LEGALI CHE HANNO UN IMPATTO IMMEDIATO O CUMULATIVO CHE POSSA PORTARE ALLA FINE DELL'INCONTRO (L'IMPATTO IMMEDIATO HA PIÙ PESO DELL'IMPATTO CUMULATIVO). I COLPI PIÙ PESANTI/CONSISTENTI/NETTI CHE HANNO AVUTO UN IMPATTO VISIBILE SULL'AVVERSARIO HANNO PIÙ PESO E IMPORTANZA RISPETTO AL NUMERO DEI COLPI PORTATI A SEGNO.ESECUZIONE DI TAKEDOWN DA IN PIEDI\, TENTATIVI DI SUBMISSIONS E RIBALTAMENTI DA TERRA E CONQUISTA DI POSIZIONI DOMINANTI O COMUNQUE VANTAGGIOSE CHE HANNO UN IMPATTO IMMEDIATO O CUMULATIVO CHE POSSA PORTARE ALLA FINE DELL'INCONTRO (L'IMPATTO IMMEDIATO HA PIÙ PESO DELL'IMPATTO CUMULATIVO) .UN TAKEDOWN O UN RIBALTAMENTO MERITORIO NON È SEMPLICEMENTE UN CAMBIO DI POSIZIONE\, MA L'INIZIO DI UN ATTACCO PARTENDO DAL TAKEDOWN O DAL RIBALTAMENTO. AI TENTATIVI DI SUBMISSIONS CHE STANCANO E INDEBOLISCONO L'AVVERSARIO\, IN QUANTO LO COSTRINGONO A NOTEVOLI SFORZI PER DIFENDERSI\, DEVE ESSERE ATTRIBUITO UN PESO MAGGIORE NEL PUNTEGGIO RISPETTO AI TENTATIVI DI SUBMISSION CHE SONO FACILMENTE DIFESI. AI TAKEDOWN DI GRANDE AMPIEZZA E/O IMPATTO DEVE ESSERE ATTRIBUITO UN PESO MAGGIORE NEL PUNTEGGIO RISPETTO AGLI ALTRI TAKEDOWN.STRIKEING E GRAPPLING HANNO LO STESSO PESO NELLA DECISIONE.2) EFFICACIA DELL'AGGRESSIVITÀAGGRESSIVITÀ NEL TENTARE DI CONCLUDERE L'INCONTRO. IL TERMINE CHIAVE È "EFFICACE". RINCORRERE L'AVVERSARIO SENZA OTTENERE RISULTATI O IMPATTI EFFICACI NON DEVE ESSERE CONSIDERATO NEL GIUDIZIO.3) CONTROLLO DELLA GABBIA (CONTROLLO DELL'AREA DI COMBATTIMENTO)VIENE VALUTATO DETERMINANDO CHI DEI DUE ATLETI STA DETTANDO IL RITMO DELL'INCONTRO\, LA LORO POSIZIONE ALL'INTERNO DELL'AREA DI COMBATTIMENTO E IL CAMPO DI AZIONE (IN PIEDI OA TERRA).PUNTEGGIOIN TUTTI GLI INCONTRI VIENE UTILIZZATO IL “10-POINT MUST SYSTEM” (SE SI ARRIVA ALLA FINE DELL'INCONTRO\, IL CORPO ARBITRALE DECIDE IL VINCITORE) PER GIUDICARE OGNI ROUND O L'INTERO INCONTRO NEGLI INCONTRI CHE DURANO UN SOLO ROUND.10-10: QUANDO NON C'È DIFFERENZA O VANTAGGIO TRA I DUE ATLETI. IL PUNTEGGIO 10-10 DEVE ESSERE ESTREMAMENTE RARO.10-9: QUANDO UN ATLETA VINCE IL ROUND PER UN LIEVE DOMINIO SULL'AVVERSARIO. E' IL PUNTEGGIO PIÙ FREQUENTE.10-8: QUANDO UN ATLETA VINCE NETTAMENTE IL ROUND\, CON UN GRANDE DOMINIO SULL'AVVERSARIO. NON È NECESSARIO CHE UN ATLETA DOMINI L'AVVERSARIO PER L'INTERA DURATA DEL ROUND.AZIONI ILLEGALI:a) COLPI ALLA PARTE POSTERIORE DELLA TESTA\, ALLA PARTE POSTERIORE DEL COLLO\, ALLA GOLA\, ALLA COLONNA VERTEBRALE\, AI RENI\, AL TRIANGOLO GENITALE. LA PARTE POSTERIORE DELLA TESTA È DEFINITA COME L'AREA CHE INIZIA DALLA CORONA DELLA TESTA E CHE CORRE DIRETTAMENTE LUNGO LA LINEA CENTRALE DELLA TESTA INCLUDENDO UN POLLICE SU CIASCUN LATO. L'INTERA PARTE POSTERIORE DEL COLLO È ANCHE ILLEGALE A PARTIRE DALL'INCROCIO OCCIPITALE E FERMANDOSI NELLA PARTE SUPERIORE DEL TRAPEZIO. DAL MUSCOLO TRAPEZIO LA COLONNA VERTEBRALE È PROTETTA FINO AL COCCIGE.b) GOMITATE E COLPI CON L'AVAMBRACCIO (SONO AMMESSI I PUGNI A MARTELLO).c) GINOCCHIATE ALLA TESTA DELL'AVVERSARIO SIA QUANDO STA IN PIEDI CHE QUANDO STA A TERRA.d) CALCI ALLA TESTA DELL'AVVERSARIO CHE STA A TERRA. IN QUESTO CASO\, UN ATLETA È CONSIDERATO A TERRA\, E NON PUÒ ESSERE COLPITO CON CALCI ALLA TESTA\, QUANDO HA ENTRAMBE LE MANI E/O QUALSIASI ALTRA PARTE DEL CORPO CHE TOCCA IL TAPPETO (SE TOCCA IL TAPPETO CON I PIEDI E UNA SOLA MANO \, NON È CONSIDERATO A TERRA).e) CALCI DISCENDENTI SULL'AVVERSARIO CHE STA A TERRA.f) COLPI CON LA TESTA.g) INTENZIONALMENTE GRAFFIARE CON LE UNGHIE O PIZZICARE CON LE DITA O TIRARE O TORCERE LA PELLE DELL'AVVERSARIO.h) ATTACCHI AGLI OCCHI\, AL NASO\, ALLE ORECCHIE\, AI CAPELLI\, AI PELI O AGLI ORGANI GENITALI (È AMMESSA LA PRESSIONE SULLA BOCCA E IL CROSS FACE CON L'AVAMBRACCIO SUL VISO).i) INFILARE LE DITA IN QUALSIASI ORIFIZIO DEL CORPO O NELLE FERITE DELL'AVVERSARIO.j) SCHIAFFI\, MORSI E SPUTI.k) BUTTARSI CON IL PESO DEL CORPO SULL'AVVERSARIO CHE È IN APPOGGIO SULLA TESTA O SUL COLLO O CHE È STATO SOLLEVATO DA TERRA ED È A TESTA IN GIÙ (SPIKING) (SULL'AVVERSARIO CHE È IN APPOGGIO SULLA TESTA O SUL COLLO È PERMESSO FARE PRESSIONE CON IL PESO DEL CORPO SOLO IN MANIERA PROGRESSIVA E NON BRUSCAMENTE L'AVVERSARIO CHE È STATO SOLLEVATO DA TERRA ED È A TESTA IN GIÙ\, SE RIPORTATO A TERRA DEVE ESSERE ACCOMPAGNATO LENTAMENTE). IN OGNI CASO È DOVERE DI OGNI ATLETA FARE IL POSSIBILE PER EVITARE CHE L'AVVERSARIO SUBISCA TRAUMI ALLA REGIONE CERVICALE.l) TAKEDOWN CHE INTENZIONALMENTE FANNO CADERE L'AVVERSARIO SULLA TESTA O SUL COLLO.m) UTILIZZARE LE DITA PER STRANGOLARE L'AVVERSARIO. E' AMMESSA LA PRESSIONE SUL COLLO CON IL PUGNO O LA MANO.n) MANIPOLARE LE PICCOLE ARTICOLAZIONI (DITA DELLE MANI E DEI PIEDI). GLI ATLETI POSSONO AFFERRARE LA MAGGIOR PARTE DELLE DITA DELLE MANI O DEI PIEDI DELL'AVVERSARIO.o) FAR CADERE O SPUTARE INTENZIONALMENTE O COSTANTEMENTE IL PARADENTI.p) RIPOSARSI DURANTE IL COMBATTIMENTO CON LA SCUSA DI ASCIUGARSI\, PULIRSI IL NASO\, SIMULANDO INFORTUNI\, ECC.q) AFFERRARE O AGGANCIARE CON QUALSIASI PARTE DEL CORPO LA GABBIA O IL TAPPETO PER AVVANTAGGIARSI O LANCIARE O SPINGERE O PROIETTARE L'AVVERSARIO FUORI DALLA GABBIA.r) COSPARGERE LA PELLE OI CAPELLI CON QUALSIASI TIPO DI SOSTANZA O USARE BENDE O QUALSIASI TIPO DI MATERIALE PROTETTIVO SENZA L'AUTORIZZAZIONE DEL MEDICO E IL CONSENSO DELL'ARBITRO (AD ECCEZIONE DEGLI ATLETI DEI TORNEI DELLA DIVISIONE ASSOLUTO DELLA CLASSE SENIOR CHE POSSONO INDOSSARE DELLE BENDE ALLE MANI).s) INSULTARE QUALSIASI PERSONA PRESENTE NELLA SEDE DI GARA.t) ATTACCARE UN AVVERSARIO DURANTE L'INTERVALLO O LA PAUSA O DOPO CHE LA CAMPANA O L'ARBITRO HANNO INDICATO L'INTERRUZIONE DELL'INCONTRO.u) NON RISPETTARE I COMANDI DELL'ARBITRO.v) INTERFERENZA DEGLI ALLENATORI DALL'ANGOLO: L'INTERFERENZA È DEFINITA COME QUALSIASI AZIONE O ATTIVITÀ VOLTA AD INTERROMPERE IL COMBATTIMENTO OA CAUSARE UN VANTAGGIO INGIUSTO AD UN ATLETA. AGLI ALLENATORI AGLI ANGOLI NON È PERMESSO DISTRARRE L'ARBITRO O INFLUENZARE LE AZIONI DELL'ARBITRO IN QUALSIASI MODO.w) APPLICARE SOSTANZE ESTRANEE SUL CORPO O SUI CAPELLI AL FINE DI OTTENERE UN VANTAGGIO.x) EVITARE IL CONTATTO CON L'AVVERSARIO O FINGERE UNA FERITA O UN INFORTUNIO.y) LEVA AL TALLONE IN TORSIONE INTERNA ED ESTERNA (INSIDE E OUTSIDE HEEL HOOK\,) O CON PRESA DIRETTA SUL TALLONE.z) LEVE ALLA CERVICALE (NECK CRANKS) BLOCCANDO O AFFERRANDO LE DUE BRACCIA/SPALLE DELL'AVVERSARIO [ES. CROCIFISSO\, FULL NELSON\, CAN OPENER] O BLOCCANDOGLI IL TORACE O IL CORPO (ES. TWISTER). SONO AMMESSE LE LEVE ALLA CERVICALE ESEGUITE BLOCCANDO O AFFERRANDO UN SOLO BRACCIO/SPALLA DELL'AVVERSARIO E SENZA BLOCCARGLI IL TORACE O IL CORPO (L'AVVERSARIO DEVE AVERE LA POSSIBILITÀ DI SEGUIRE IL MOVIMENTO A CUI LO COSTRINGE LA LEVA CERVICALE). SONO INOLTRE AMMESSE TUTTE LE LEVE ALLA CERVICALE ESEGUITE INSIEME AD UNO STRANGOLAMENTO E LE PRESE DI SUBMISSION ALLA CERVICALE ESEGUITE PER CONTROLLARE L'AVVERSARIO E NON PER SOTTOMETTERLO. LE COMPRESSIONI ALLA CERVICALE SONO AMMESSE SOLO SE ESEGUITE INSIEME AD UNO STRANGOLAMENTO (AD ESEMPIO EZEKIEL CHOKE É AMMESSO) (COMPRESSIONE ALLA CERVICALE PROIBITA).REGOLAMENTO DILETTANTI MINORENNI NOGI (M00-M01-M02-M03):MINORE CLASSE DI ETA':M00 dati previsti 10-11M01 dati previsti 12-13M02 data di arrivo 14-15M03 data di arrivo 16-17MINORENNI CLASSI DI PESO:-40\, -44\, -48\, -52\, -57\, -62\, -67\, -72\, +72 KG.TECNICHE PERMESSE:REARE NAKED CHIOKETRIANGOLOBARRA DEL BRACCIOKIMURAAMERICANATECNICHE VIETATE:NON SCHIACCIARE CERVICALE.NON SUPLEX.NO TAKEDOWN PORTANDO L'AVVERSARIO SOPRA LE PROPRIE SPALLE.NO GHIGLIOTTINE CON SOLO TESTA.NIENTE GHIGLIOTTINE TERMINATE IN PIEDI.NESSUNA LEVA AI POLSI.NESSUNA COMPRESSIONE AI MUSCOLARI.NO LEVE E COMPRESSIONI ALLA CERVICALE O ALLA COLONNA VERTEBRALENON OMOPLATANO KNEE REAPING (TORSIONE AL GINOCCHIO DELL'AVVERSARIO CHE HA IL PIEDE BLOCCATO)NESSUNA FINALIZZAZIONE ALLE GAMBE.TEMPO: 1 GIRO DA 4 MINUTICERTIFICATO MEDICO: B1REGOLAMENTO DILETTANTI ADULTI NOGI (A01):A01 PRINCIPIANTE (TORNEO APERTO A CINTURE BIANCHE E BLU)CLASSI DI ETA' ADULTI E M-03 ETA' 16-17 ANNI:Dati previsti 18-36CLASSI DI PESO ADULTI E M-03:-55\, -61\, -66\, -71\, -77\, -84\, -92\, -100\, -120 KG&nbsp\;TECNICHE PERMESSE:REAR NAKED CHOKETRIANGOLO&nbsp\;BARRA DEL BRACCIOKIMURAAMERICANAOMOPLATALEVA ALLE GAMBE ACHILLE LOCK E TOE HOLD DRITTA SENZA PIEGARE GAMBATECNICHE VIETATE:NON SCHIACCIARE CERVICALE.NON SUPLEX.NO TAKEDOWN PORTANDO L'AVVERSARIO SOPRA LE PROPRIE SPALLE.NESSUNA LEVA AI POLSI.NESSUNA COMPRESSIONE AI MUSCOLARI.NO LEVE E COMPRESSIONI ALLA CERVICALE O ALLA COLONNA VERTEBRALE.NO KNEE REAPING (TORSIONE AL GINOCCHIO DELL'AVVERSARIO CHE HA IL PIEDE BLOCCATO)NO LEVE ALLE GAMBE (UNICA AMMESSA ACHILLE E TOE HOLD DRITTA SENZA PIEGARE GAMBA)TEMPO: 1 GIRO DA 5 MINUTICERTIFICATO MEDICO: B1A02 ESPERTO (TORNEO APERTO ALLE CINTURE VIOLA E MARRONI)CLASSI DI ETA' ADULTI:Dati previsti 18-36CLASSI DI PESO ADULTI:-55\, -61\, -66\, -71\, -77\, -84\, -92\, -100\, -120 KG.&nbsp\;TECNICHE PERMESSE:SOFFOCAMENTO POSTERIORE NUDOTRIANGOLOBARRA DEL BRACCIOKIMURAAMERICANASI LEVA AI POLSISERRATURA DI ACHILLETOE HOLD DRITTA SENZA PIEGARE LA GAMBAKNEE BARTECNICHE VIETATE:NON SCHIACCIARE CERVICALE.NON SUPLEX.NO TAKEDOWN PORTANDO L'AVVERSARIO SOPRA LE PROPRIE SPALLE.NESSUNA COMPRESSIONE AI MUSCOLARI.NO LEVE E COMPRESSIONI ALLA CERVICALE O ALLA COLONNA VERTEBRALE&nbsp\;NO KNEE REAPING (TORSIONE AL GINOCCHIO DELL'AVVERSARIO CHE HA IL PIEDE BLOCCATO)TEMPO: 1 GIRO DA 6 MINUTICERTIFICATO MEDICO: B1ISCRIZIONE GARA:- ON LINE SU SMOOTHCOMP- QUOTA ISCRIZIONE GARA (DA PAGARE SUL POSTO AL PESO)- PESO APERTO DURANTE LA GIORNATA PRESENTARSI 1 ORA PRIMA DELL'ORARIO DI LOTTA CHE TROVERETE SU SMOOTHCOMP1 DISCIPLINATESSERATI CSEN 25 EURONON TESSERATI 30 EURO2 DISCIPLINATESSERATI CSEN 40 EURONON TESSERATI 50 EUROPUNTEGGIO:2 PUNTI:RIBALTAMENTO RIBALTAMENTO3 PUNTI:PASSAGGIO DELLA GUARDIA4 PUNTI:PRESA DELLA MONTAPRESA MONTA DI SCHIENAPRESA DI SCHIENANB PER AVERE I PUNTI BISOGNA STABILIZZARE PER 3 SECONDI ALTRIMENTI NON VERRANNO CONTEGGIATIPREMIAZIONE PER I PRIMI TRE TEAMS CLASSIFICATI (SI CONTANO I PUNTI OTTENUTI NELLE MMA E NEL GI)LE MMA SARANNO DISPITUTATE IN GABBIA REGOLAMENTARE E RIALZATAIL NOGI SI DISPUTERA' SUL TAPPETO&nbsp\;\\n\\nMore info: https://smoothcomp.com/en/event/31300\\n\\nView on EuroBJJ: https://eurobjj.com/events/1651
URL:https://smoothcomp.com/en/event/31300
END:VEVENT
END:VCALENDAR
