BEGIN:VCALENDAR
VERSION:2.0
PRODID:-//EuroBJJ//Event Calendar//EN
CALSCALE:GREGORIAN
METHOD:PUBLISH
X-WR-CALNAME:EuroBJJ Events
BEGIN:VEVENT
UID:event-1562@eurobjj.com
DTSTAMP:20260423T103747Z
DTSTART;VALUE=DATE:20260328
DTEND;VALUE=DATE:20260329
SUMMARY:RVK OPEN - SUB ONLY 3
LOCATION:Iceland
DESCRIPTION:RVK OPEN - SUB ONLY 3 is a No-Gi submission-only tournament run under EBI rules across two competition mats. Competitors are divided into Beginners (under 2 years experience) and Advanced (2+ years).\n\n**Match format:**\n- Standard matches: 5 minutes\n- Championship matches: 10 minutes\n- Overtime if no submission is achieved\n- Stalling rules apply: two warnings for delaying without attempting to pass or improve position result in a reset to half-guard\n- Referees prioritize safety in younger categories\, stopping matches before tap when necessary\n\n**Logistics:**\n- Registration: 4\,000 ISK (non-refundable\; payment deadline midnight March 25)\n- Doors open 8:30\, weigh-in 9:00–9:30\, first matches at 10:00\n\n*For full details and registration\, visit the official event page.*\\n\\nMore info: https://smoothcomp.com/en/event/30853\\n\\nView on EuroBJJ: https://eurobjj.com/events/1562
URL:https://smoothcomp.com/en/event/30853
END:VEVENT
END:VCALENDAR
