BEGIN:VCALENDAR
VERSION:2.0
PRODID:-//EuroBJJ//Event Calendar//EN
CALSCALE:GREGORIAN
METHOD:PUBLISH
X-WR-CALNAME:EuroBJJ Events
BEGIN:VEVENT
UID:event-1765@eurobjj.com
DTSTAMP:20260422T040914Z
DTSTART;VALUE=DATE:20260530
DTEND;VALUE=DATE:20260531
SUMMARY:SJJIFBF GI & NO-GI SUMMER OPEN 2026
LOCATION:Lokomotiv Stadium\, Rozhen 23\, Sofia\, Bulgaria
DESCRIPTION:The SJJIF GI & NO-GI Summer Open 2026 welcomes male and female adults\, masters\, and juveniles across seven belt levels from white to black.\n\n**Registration & fees:**\n- €40 on-the-spot registration\n- €70 for both Gi and No-Gi entries\n- €10 surcharge for those not pre-registered on smoothcomp.com\n- No refunds\n\n**Competition details:**\n- Weigh-ins 9:00–10:00 am (athletes weigh in without a Gi)\n- SJJIF ruleset\n- All leg locks permitted in the No-Gi advanced division\n- Athletes with proven experience in judo\, professional/amateur MMA\, or Olympic/Greco-Roman wrestling cannot compete as white belt\n\n*For full details and registration\, visit the official event page.*\\n\\nMore info: https://sjjif.smoothcomp.com/en/event/31875\\n\\nView on EuroBJJ: https://eurobjj.com/events/1765
URL:https://sjjif.smoothcomp.com/en/event/31875
END:VEVENT
END:VCALENDAR
