BEGIN:VCALENDAR
VERSION:2.0
PRODID:-//EuroBJJ//Event Calendar//EN
CALSCALE:GREGORIAN
METHOD:PUBLISH
X-WR-CALNAME:EuroBJJ Events
BEGIN:VEVENT
UID:event-1660@eurobjj.com
DTSTAMP:20260423T110807Z
DTSTART;VALUE=DATE:20260613
DTEND;VALUE=DATE:20260614
SUMMARY:SOUTHEAST TORREVIEJA
LOCATION:Pabellon Cecilio Gallego\, Torrevieja\, Spain
DESCRIPTION:⭐️SOUTHEAST TORREVIEJA 2026⭐️⭐️⭐️🥇+60pts&nbsp\;🥈+35pts&nbsp\;🥉+20pts&nbsp\;+6 pts por victoria&nbsp\;+3 pts Finalización🔥&nbsp\;&nbsp\;   DESCUENTOS GI + NOGI 🥋🤼‍♂️   &nbsp\;:Los luchadores que se inscriban en ambas categorías (Gi y NoGi) recibirán un descuento sobre el precio total (ver en "Fechas Relevantes").ANTES DE APUNTARTEPor favor lea detenidamente el manual de reglas de la AJP y la tabla de pesos:&nbsp\;Reglas AJP Jiu -Jitsu - Abu Dhabi Jiu Jitsu Pro&nbsp\;&nbsp\;   Reglas AJPuniformes - Abu Dhabi Jiu Jitsu Pro&nbsp\;&nbsp\;   (ajptour.com)Sistema de graduación - Abu Dhabi Jiu Jitsu Pro&nbsp\;   &nbsp\;(ajptour.com)CINTURONES Y DIVISIONES DE EDAD 2026DE LOS HOMBRES:Año de nacimiento / División / Cinturón2021 y 2022 / Niños 1 / Blanco\, Gris2019 y 2020 / Niños 2 / Blanco\, Gris\, Amarillo2017 y 2018 / Niños 3 / Blanco\, Gris\, Amarillo2015 y 2016 / Bebé / Blanco\, Gris\, Amarillo\, Naranja2013 y 2014 / Junior / Blanco\, Gris\, Amarillo\, Naranja\, Verde2011 y 2012 / Adolescentes / Blanco\, Gris\, Amarillo\, Naranja\, Verde2009 y 2010 / Juventud / Blanco\, Azul\, Morado2008 y antes / Amateur / Blanco\, Azul2010 y antes / Profesional / Púrpura2008 y antes / Profesional / Marrón\, Negro1996 y antes / Master 1 / Blanco\, Azul\, Morado\, Marrón\, Negro1990 y antes / Master 2 / Blanco\, Azul\, Morado\, Marrón\, Negro1985 y antes / Master 3 / Blanco\, Azul\, Morado\, Marrón\, Negro1980 y antes / Master 4 / Blanco\, Azul\, Morado\, Marrón\, NegroDE LAS MUJERES:Año de nacimiento / División / Cinturón2021 y 2022 / Niños 1 / Blanco\, Gris2019 y 2020 / Niños 2 / Blanco\, Gris\, Amarillo2017 y 2018 / Niños 3 / Blanco\, Gris\, Amarillo2015 y 2016 / Bebé / Blanco\, Gris\, Amarillo\, Naranja2013 y 2014 / Junior / Blanco\, Gris\, Amarillo\, Naranja\, Verde2011 y 2012 / Adolescentes / Blanco\, Gris\, Amarillo\, Naranja\, Verde2009 y 2010 / Juventud / Blanco\, Azul\, Morado2008 y antes / Amateur / Blanco\, Azul2010 y antes / Profesional / Púrpura2008 y antes / Profesional / Marrón\, Negro1996 y antes / Master 1 / Blanco\, Azul\, Morado\, Marrón\, Negro1990 y antes / Master 2 / Blanco\, Azul\, Morado\, Marrón\, NegroPara toda la información sobre&nbsp\;&nbsp\;las Divisiones AJP:&nbsp\;&nbsp\;Haga clic aquí &gt\;&gt\;Reglamento de Competición AJP:&nbsp\;&nbsp\;Haz clic aquí &gt\;&gt\;IMPORTANTE: LAS CATEGORÍAS DE EDAD SON POR AÑO DE NACIMIENTO\, NO POR FECHA DE NACIMIENTO.&nbsp\;FECHAS RELEVANTES Y PRECIOSFechas de las tarifas en la cabecera del evento.Tarifa Anticipada: 40 € Gi + NoGi: 60 € / Menores de 15 años: 30 € GiTarifa Normal: 50 € Gi + NoGi: 80 € / Menores de 15 años: 40 € GIConsulte fechas límite para EDITAR y CANCELAR la inscripción en esta misma página.ESPECTADORESENTRADA GRATUITAPROGRAMACIÓN Y HORARIO&nbsp\;El 11 de JUNIO estará disponible la programación con los horarios y emparejamientos de las peleas.SÁBADO 13 DE JUNIO 10:00 AM INICIO DE COMBATE (GI\, NO-GI Y NIÑOS))*   &nbsp\;Recomendamos que los participantes estén presentes en el lugar de la competición hasta 1 hora antes de la hora de su pelea.PREMIOS&nbsp\;🏆🥇🥈🥉MEDALLAS1º PLACE&nbsp\;2º PLACE3º PLACE (El tercer lugar debe lucharse).TROFEOS&nbsp\;POR&nbsp\;ACADEMIAS GI\, NO-GI y KIDS1º PLACE&nbsp\;2º PLACE3º PLACENORMAS DE LA COMPETICIÓN1– La competición cuenta con un seguro de accidentes deportivos que puede cubrir a los atletas que sufran un accidente únicamente en el día del evento\, aun así se recomienda a todos los competidores tener un seguro de accidentes particular en el caso de accidentes graves.2 – ⏰El atleta deberá presentarse&nbsp\;&nbsp\;   al menos   &nbsp\;&nbsp\;20 minutos antes de su lucha o será descalificado\, sin el derecho de pedir el reembolso del valor de la inscripción.&nbsp\;&nbsp\;   Recomendamos presentarnos&nbsp\;&nbsp\;   al menos 60 minutos antes   &nbsp\;\, ya que el evento puede adelantarse&nbsp\;&nbsp\;   muy sustancialmente   &nbsp\;&nbsp\;y es responsabilidad única de los participantes estar atentos a las actualizaciones en el horario dinámico desde su perfil.3 – Solamente las personas autorizadas podrán sacar fotos o grabar las peleas en el área de lucha.4 – ⌚Todos los atletas&nbsp\;&nbsp\;   son responsables de comprobar periódicamente la hora de sus combates desde su página de perfil en smoothcomp.com   &nbsp\;. Los combates se pueden adelantar o retrasar muy sustancialmente a lo largo del día.&nbsp\;&nbsp\;   El atleta que no esté presente en el momento de ser llamado a pesaje&nbsp\;&nbsp\;   será descalificado   &nbsp\;\, independientemente de si el evento se ha adelantado respecto al primer horario publicado   &nbsp\;.5–&nbsp\;&nbsp\;   Edad   &nbsp\;:&nbsp\;&nbsp\;   la edad de un atleta va en función del año   &nbsp\;\, no de la fecha exacta de nacimiento\; así por ejemplo\,&nbsp\;&nbsp\;   un atleta que tenga en el día de la competición 17 años pero que ese mismo año cumplirá los 18 se considerará para el sistema como "atleta de 18 años" y deberá competir en Adulto   &nbsp\;.ATLETAS MENORES DE 18 AÑOSCompetirán acorde a sus cinturones según la normativa AJP.&nbsp\;ATLETAS SOLOS EN LA CATEGORÍALa organización siempre tratará de buscar combates   &nbsp\;&nbsp\;posibles en alguna categoría para los atletas que hayan quedado solos unificándolos en edad o peso con otras categorías. Será responsabilidad única del atleta unificado comprobar estos cambios y\, en caso de que quiera modificarlos\, ponerse en contacto con la organización.   &nbsp\;&nbsp\;No se permitirán cambios o reembolsos por este motivo el día de la competición.OPCIÓN 1:Permanecer en la categoría actual\, dar el peso referente a su categoría y recibir la medalla de primer puesto.OPCIÓN 2:Subir a la siguiente categoría de peso\, o en caso de Master bajar de categoría de Edad.Categorías de Master y Adulto: Para subir o bajar en la categoría de edad\, el atleta debe especificar una categoría de edad elegible determinada por su año de nacimiento.&nbsp\;&nbsp\;   Por ejemplo\, un atleta calificado para competir en Master 2 puede pasar a Master 1 oa Adulto\, pero no puede pasar a Adulto a Master 1 oa Master 2.Categorías Juveniles: dichos atletas NO podrán pelear en adulto si no tienen lucha en su categoría.OPCIÓN 3:Cancelar la inscripción al campeonato para aquellos atletas que no tengan lucha.Podrán cancelar su inscripción 1 día después del cierre de las listas enviando un correo electrónico a Submissionnationspain@gmail.com\, Se les hará un&nbsp\;&nbsp\;   bono canjeable   &nbsp\;&nbsp\;(sin reembolso) para la siguiente edición de Submission Nation.&nbsp\;POLÍTICA DE REEMBOLSO💰 Ofrecemos un&nbsp\;&nbsp\;   reembolso   &nbsp\;&nbsp\;por cancelar la inscripción según la fecha de la cancelación:80% hasta el 02 de junio del 202660% hasta el 09 de junio del 2026 y ultimo dia para Cancelar o EditarPESAJE&nbsp\;LUGAR DE PESAJE: Polideportivo Municipal de Callosa de SeguraFecha: Viernes\, 12 de JUNIO de 2026&nbsp\;Horario: 18:00 a 20:00&nbsp\;Fecha: Sábado\, 13 de JUNIO de 2026Horario: 08:00 a 09:00&nbsp\;&nbsp\;NORMAS DEL PESAJE1- El participante puede elegir cuál horario desea hacer su pesaje\, no es necesario a pesar de dos veces.2- El participante que no comparezca en la hora estipulada para el pesaje será descalificado.3- El participante deberá presentarse para el pesaje vestido con pantalón corto tipo shorts y camiseta o chandal.4- Para identificarse es necesario llevar un documento oficial con foto tipo: DNI\, NIE\, RG\, CNH o PASAPORTE5- Las mediciones oficiales de peso para este evento están en KILOGRAMOS y es el mismo peso para ambas modalidades\, tanto con Kimono (Gi) cuanto sin kimono (NoGi):Para identificarse es obligatorio llevar un documento oficial con Foto para el pesaje: DNI\, PASAPORTE- El atleta que no del peso tendrá la opción de subir de categoría el mismo día del pesaje.&nbsp\;- El pesaje deberá realizarse en pantalón corto y camiseta. No se admitirá realizar el pesaje en ropa interior.EQUIPO ARBITRALEl equipo arbitral es totalmente independiente\, no favorecen ni perjudican a nadie\, sino que aplica el reglamento AJP de la manera más objetiva posible.&nbsp\;&nbsp\;   No se tolerará ninguna falta de respeto hacia ellos   &nbsp\;&nbsp\;antes\, durante\, ni después de los combates.Del mismo modo\,&nbsp\;&nbsp\;   los árbitros&nbsp\;   &nbsp\;tendrán el poder de desclasificar y sancionar disciplinariamente   &nbsp\;&nbsp\;a Luchadores\, Entrenadores o Escuelas completas&nbsp\;&nbsp\;   antes\, durante y después&nbsp\;   &nbsp\;de sus combates. Estas sanciones irán desde la pérdida de puntos en la clasificación por equipos hasta la&nbsp\;   expulsión vitalicia   &nbsp\;&nbsp\;de todos los eventos asociados a Submission Nation.&nbsp\;\\n\\nMore info: https://smoothcomp.com/en/event/30609\\n\\nView on EuroBJJ: https://eurobjj.com/events/1660
URL:https://smoothcomp.com/en/event/30609
END:VEVENT
END:VCALENDAR
