BEGIN:VCALENDAR
VERSION:2.0
PRODID:-//EuroBJJ//Event Calendar//EN
CALSCALE:GREGORIAN
METHOD:PUBLISH
X-WR-CALNAME:EuroBJJ Events
BEGIN:VEVENT
UID:event-1774@eurobjj.com
DTSTAMP:20260422T095753Z
DTSTART;VALUE=DATE:20260912
DTEND;VALUE=DATE:20260913
SUMMARY:SUBMISSION GRAPPLING CHAMPIONSHIP 10 - NO-GI ADULT MASTER & KIDS
LOCATION:Srednjoškolski centar Travnik - Sportska dvorana\, Travnik\, Bosnia and Herzegovina
DESCRIPTION:**Submission Grappling Championship 10** is a no-gi event for Kids (U8–U16)\, Adults\, and Masters (35+). Black belt degree holders compete free.\n\n**Registration:**\n- Adults & Masters: €35\n- Kids: €25\n- Absolute Division (Adults): Free\n\n**Format & Competition:**\nAdults and Masters compete in Round Robin pools (up to 4 competitors) advancing to Single Elimination. Kids face Single Elimination with bronze matches.\n\n**Prizes & Awards:**\nMedals for all podium finishers. Cash prizes in the Absolute Division range from €100–€250 depending on experience level and placement. Team trophies awarded separately for Adults and Kids. A Best Fighter award goes to the highest-scoring competitor across divisions (Advanced: 3 pts\, Intermediate: 2 pts\, Beginner: 1 pt per win).\n\n**Schedule & Logistics:**\nWeigh-ins: Friday 18:00–20:00 or Saturday 7:30–9:00. Competition starts at 10:00. Free parking\, warm-up mat\, TV scoreboards on all 8 mats\, and live YouTube stream included. Dynamic starting times available via mobile device.\n\nSpectators enter free.\n\n*For full details and registration\, visit the official event page.*\\n\\nMore info: https://smoothcomp.com/en/event/31886\\n\\nView on EuroBJJ: https://eurobjj.com/events/1774
URL:https://smoothcomp.com/en/event/31886
END:VEVENT
END:VCALENDAR
