BEGIN:VCALENDAR
VERSION:2.0
PRODID:-//EuroBJJ//Event Calendar//EN
CALSCALE:GREGORIAN
METHOD:PUBLISH
X-WR-CALNAME:EuroBJJ Events
BEGIN:VEVENT
UID:event-1768@eurobjj.com
DTSTAMP:20260422T070422Z
DTSTART;VALUE=DATE:20260606
DTEND;VALUE=DATE:20260607
SUMMARY:SWISS BJJ & GRAPPLING FEST III
LOCATION:Wankdorf sports center\, Bern\, Switzerland
DESCRIPTION:The Swiss BJJ & Grappling Fest III runs two separate tournaments: a Gi division following traditional Brazilian Jiu-Jitsu rules and a No-Gi grappling division with modern ruleset. Open to all academies and affiliations\, the event features professional refereeing and organization.\n\nCompetition begins at 1:00 PM.\n\n*For full details and registration\, visit the official event page.*\\n\\nMore info: https://smoothcomp.com/en/event/31882\\n\\nView on EuroBJJ: https://eurobjj.com/events/1768
URL:https://smoothcomp.com/en/event/31882
END:VEVENT
END:VCALENDAR
