BEGIN:VCALENDAR
VERSION:2.0
PRODID:-//EuroBJJ//Event Calendar//EN
CALSCALE:GREGORIAN
METHOD:PUBLISH
X-WR-CALNAME:EuroBJJ Events
BEGIN:VEVENT
UID:event-1767@eurobjj.com
DTSTAMP:20260422T064536Z
DTSTART;VALUE=DATE:20260606
DTEND;VALUE=DATE:20260607
SUMMARY:SWISS FESTIVAL KIDS III
LOCATION:Wankdorf sports center\, Bern\, Switzerland
DESCRIPTION:Swiss Festival Kids III celebrates Jiu-Jitsu values through competition and community. Young grapplers compete in round-robin format with a maximum of three matches each\, earning a participation medal.\n\nThe festival features games and attractions alongside the tournament\, creating a family-friendly atmosphere rooted in friendship and respect.\n\n**Registration:**\n- Early: CHF 70\n- Normal: CHF 80\n- Late: CHF 90\n- Public spectator entry: CHF 10\n\nDoors open at 8:00 am.\n\n*For full details and registration\, visit the official event page.*\\n\\nMore info: https://smoothcomp.com/en/event/31880\\n\\nView on EuroBJJ: https://eurobjj.com/events/1767
URL:https://smoothcomp.com/en/event/31880
END:VEVENT
END:VCALENDAR
