BEGIN:VCALENDAR
VERSION:2.0
PRODID:-//EuroBJJ//Event Calendar//EN
CALSCALE:GREGORIAN
METHOD:PUBLISH
X-WR-CALNAME:EuroBJJ Events
BEGIN:VEVENT
UID:event-1655@eurobjj.com
DTSTAMP:20260422T110531Z
DTSTART;VALUE=DATE:20260619
DTEND;VALUE=DATE:20260620
SUMMARY:TC NORWAY CAMP 2026
LOCATION:Norway
DESCRIPTION:Team Carvalho Norway Camp is back and better than ever. Don't miss the bjj event of the year in Norway\, with the sickest instructor line up. All eco\, so you can play all day the CLA way.&nbsp\;Same as last year\, we will have three days of fun. Two classes going on at the same time all weekend\, so you can pick what suits you better. Gi and nogi classes\, different topics and different instructors. Social events: River sauna &amp\; dips Friday night\, BBQ Saturday night.&nbsp\;Instructors: First reveal:&nbsp\; Kyvann Gonzalez!More to be revealed...&nbsp\;Schedule: To be revealed...&nbsp\;\\n\\nMore info: https://smoothcomp.com/en/event/31258\\n\\nView on EuroBJJ: https://eurobjj.com/events/1655
URL:https://smoothcomp.com/en/event/31258
END:VEVENT
END:VCALENDAR
