BEGIN:VCALENDAR
VERSION:2.0
PRODID:-//EuroBJJ//Event Calendar//EN
CALSCALE:GREGORIAN
METHOD:PUBLISH
X-WR-CALNAME:EuroBJJ Events
BEGIN:VEVENT
UID:event-1777@eurobjj.com
DTSTAMP:20260423T041907Z
DTSTART;VALUE=DATE:20260620
DTEND;VALUE=DATE:20260621
SUMMARY:TOMIS OPEN 2026
LOCATION:Sala Sporturilor Constanta\, Constanta\, Romania
DESCRIPTION:TOMIS OPEN 2026 is a major Gi and No-Gi tournament held in Romania on June 19–20\, 2026. The event welcomes competitors from U8 through Masters across all belt levels\, white through black.\n\n**Registration fees (in lei):**\n- Children & Juniors: 140 (early\, until May 17)\, 190 (normal\, May 18–31)\, 240 (late\, June 1–14)\n- Adults & Masters: 170 (early)\, 230 (normal)\, 280 (late)\n- Category change on Friday weigh-in: +50 lei\n\n**Schedule:**\n- Weigh-in: Friday\, June 19 (18:00–20:00) and Saturday\, June 20 (from 08:30)\n- Competition: Saturday\, June 20\n- Doors open 30 minutes before start\n\n**Special features:**\n- Elite divisions for children (Gi only) based on performance\, separate from belt color\n- Elite results feed into the Belt League\n- Adults and Masters compete in both Gi and No-Gi\n- Open categories available for podium finishers\n- Flexible merging: move up in weight\, age category\, or belt level\n- Team Cup scoring: Gold 9 points\, Silver 5\, Bronze 1\n\nCapacity is limited to 600 participants\; registrations close automatically when full.\n\n*For full details and registration\, visit the official event page.*\\n\\nMore info: https://asr.smoothcomp.com/en/event/31685\\n\\nView on EuroBJJ: https://eurobjj.com/events/1777
URL:https://asr.smoothcomp.com/en/event/31685
END:VEVENT
END:VCALENDAR
