BEGIN:VCALENDAR
VERSION:2.0
PRODID:-//EuroBJJ//Event Calendar//EN
CALSCALE:GREGORIAN
METHOD:PUBLISH
X-WR-CALNAME:EuroBJJ Events
BEGIN:VEVENT
UID:event-1544@eurobjj.com
DTSTAMP:20260423T103749Z
DTSTART;VALUE=DATE:20260621
DTEND;VALUE=DATE:20260622
SUMMARY:TORREDEMBARRA CHALLENGE 2026
LOCATION:Pavelló Sant Jordi\, Torredembarra\, Tarragona\, Spain
DESCRIPTION:TORREDEMBARRA CHALLENGE 2026 is an open BJJ tournament welcoming all teams and nationalities. Competition follows AJP Rules across Gi and No-Gi divisions.\n\n**Age divisions span from Kids 1 (4–5 years) through Master 4 (46+)\, with belt levels from white to black.** Open Class divisions are available for Juveniles\, Adults\, and Masters in both genders.\n\n**Registration pricing (early/normal/late):**\n- Kids: €45–55 per format\, €70–90 for both\n- Juveniles & Adults: €50–70 per format\, €80–120 for both\n\nPre-weigh-in takes place Saturday 20 June (17:30–19:30 in Barcelona and Torredembarra). Event day weigh-in is Sunday 21 June (08:00–09:00)\, with competition starting at 09:30.\n\nMedals awarded to top 3 individuals\; team trophies for 1st–3rd place. Basic sports accident coverage included. Spectator entry is free. **Registration slots are limited.**\n\n*For full details and registration\, visit the official event page.*\\n\\nMore info: https://smoothcomp.com/en/event/29930\\n\\nView on EuroBJJ: https://eurobjj.com/events/1544
URL:https://smoothcomp.com/en/event/29930
END:VEVENT
END:VCALENDAR
