BEGIN:VCALENDAR
VERSION:2.0
PRODID:-//EuroBJJ//Event Calendar//EN
CALSCALE:GREGORIAN
METHOD:PUBLISH
X-WR-CALNAME:EuroBJJ Events
BEGIN:VEVENT
UID:event-1762@eurobjj.com
DTSTAMP:20260421T062042Z
DTSTART;VALUE=DATE:20260531
DTEND;VALUE=DATE:20260601
SUMMARY:TOURNOI DE CHÂTENAY-MALABRY 2026
LOCATION:Gymnase Jean Jaurès\, 92290 CHATENAY-MALABRY\, France
DESCRIPTION:The Tournoi de Châtenay-Malabry 2026 is a Gi-only competition under CFJJB rules\, welcoming young grapplers from U5 through adults across all belt levels.\n\n**Registration:** €20 per competitor. A valid CFJJB license must be presented on site.\n\n**Key rules:**\n- Weigh-in takes place one hour before each category (in gi)\n- Gi colors: white\, blue\, or black only—mismatched gis are not permitted\n- No weight tolerance\n- U5 competitors compete for points only\; finalization is not allowed\n\n*For full details and registration\, visit the official event page.*\\n\\nMore info: https://smoothcomp.com/en/event/31741\\n\\nView on EuroBJJ: https://eurobjj.com/events/1762
URL:https://smoothcomp.com/en/event/31741
END:VEVENT
END:VCALENDAR
