BEGIN:VCALENDAR
VERSION:2.0
PRODID:-//EuroBJJ//Event Calendar//EN
CALSCALE:GREGORIAN
METHOD:PUBLISH
X-WR-CALNAME:EuroBJJ Events
BEGIN:VEVENT
UID:event-1754@eurobjj.com
DTSTAMP:20260420T065959Z
DTSTART;VALUE=DATE:20260530
DTEND;VALUE=DATE:20260531
SUMMARY:UKRAINE NATIONAL CHALLENGE 2026 ODESA GI & NO-GI ЕТАП 2
LOCATION:Black sea PSV\, Odesa\, Ukraine
DESCRIPTION:The Ukraine National Challenge 2026 Stage 2 in Odesa is a Gi and No-Gi tournament following AJP rules. This is part of a four-stage national series\, with the final held in Kyiv.\n\n**Registration:**\n- Regular: 1\,750 UAH (one category) / 2\,650 UAH (two categories)\n- Late: 2\,200 UAH / 3\,100 UAH\n- Military/defenders discount: 1\,250 UAH / 1\,850 UAH\n\n**Competition structure:**\n- Weigh-in: May 30\, 7:30–9:00\n- Start: 10:00\n- Gi and No-Gi are scored separately\n- Champion belts awarded in four categories: Absolute Champion PRO\, Absolute Champion NOVICE\, Champion PRO\, Champion NOVICE\n- Athletes competing across multiple stages earn only one medal per stage\n- No medal awarded if a category has only one participant\; registration fee is refunded instead\n\nAthletes must maintain a single profile across all stages. Coaches and media require separate registration to access the competition zone.\n\n*For full details and registration\, visit the official event page.*\\n\\nMore info: https://smoothcomp.com/en/event/31600\\n\\nView on EuroBJJ: https://eurobjj.com/events/1754
URL:https://smoothcomp.com/en/event/31600
END:VEVENT
END:VCALENDAR
