BEGIN:VCALENDAR
VERSION:2.0
PRODID:-//EuroBJJ//Event Calendar//EN
CALSCALE:GREGORIAN
METHOD:PUBLISH
X-WR-CALNAME:EuroBJJ Events
BEGIN:VEVENT
UID:event-1549@eurobjj.com
DTSTAMP:20260423T103940Z
DTSTART;VALUE=DATE:20260328
DTEND;VALUE=DATE:20260329
SUMMARY:UL BJJ SPRING OPEN 2026
LOCATION:PESS Building\, Limerick\, Ireland
DESCRIPTION:UL BJJ Spring Open 2026 is a No-Gi tournament featuring White belt (including a U6 months beginner category) and Blue belt divisions under Grappling Industries submission-only rules.\n\n**Registration:**\n- Men's division: €30\n- Women's division: €20\n- Absolute division: +€10\n\nThe U6 months beginner category is restricted to athletes with under 6 months training experience competing in their first event. Separate weight brackets apply for male and female divisions. The tournament is open to non-students\, though competitors must be 18 or older.\n\nWeigh-in runs 8AM–12PM with competition starting at 10AM.\n\n*For full details and registration\, visit the official event page.*\\n\\nMore info: https://smoothcomp.com/en/event/30965\\n\\nView on EuroBJJ: https://eurobjj.com/events/1549
URL:https://smoothcomp.com/en/event/30965
END:VEVENT
END:VCALENDAR
