BEGIN:VCALENDAR
VERSION:2.0
PRODID:-//EuroBJJ//Event Calendar//EN
CALSCALE:GREGORIAN
METHOD:PUBLISH
X-WR-CALNAME:EuroBJJ Events
BEGIN:VEVENT
UID:event-1791@eurobjj.com
DTSTAMP:20260425T160415Z
DTSTART;VALUE=DATE:20260704
DTEND;VALUE=DATE:20260705
SUMMARY:Venice Jesolo International Open IBJJF Jiu-Jitsu Championship 2026
LOCATION:Palazzo del Turismo\, Lido di Jesolo\, Italy
DESCRIPTION:The Venice Jesolo International Open is an IBJJF-sanctioned championship featuring both Belt & Age divisions and an Open Class format.\n\n*For full details and registration\, visit the official event page.*\\n\\nMore info: https://ibjjf.com/events/venice-jesolo-international-open-ibjjf-jiu-jitsu-championship-2026\\n\\nView on EuroBJJ: https://eurobjj.com/events/1791
URL:https://ibjjf.com/events/venice-jesolo-international-open-ibjjf-jiu-jitsu-championship-2026
END:VEVENT
END:VCALENDAR
