BEGIN:VCALENDAR
VERSION:2.0
PRODID:-//EuroBJJ//Event Calendar//EN
CALSCALE:GREGORIAN
METHOD:PUBLISH
X-WR-CALNAME:EuroBJJ Events
BEGIN:VEVENT
UID:event-1757@eurobjj.com
DTSTAMP:20260420T081926Z
DTSTART;VALUE=DATE:20260530
DTEND;VALUE=DATE:20260531
SUMMARY:WAZAKIDS 2026
LOCATION:Italy
DESCRIPTION:WAZAKIDS 2026 is a Gi-only tournament for young grapplers aged 4–17\, following IBJJF rules. Athletes compete in two divisions: white belt and colored belt (maximum blue).\n\nRegistration is €30. Weigh-in takes place 9:00–10:00 with the gi on\, and competition begins at 10:00. Team leaders must complete and sign athlete self-certification forms during weigh-in. The event welcomes competitors registered with any federation or EPS.\n\n*For full details and registration\, visit the official event page.*\\n\\nMore info: https://smoothcomp.com/en/event/29620\\n\\nView on EuroBJJ: https://eurobjj.com/events/1757
URL:https://smoothcomp.com/en/event/29620
END:VEVENT
END:VCALENDAR
